BEGIN:VCALENDAR
VERSION:2.0
PRODID:-//Cabernet &amp; Canvas - ECPv6.15.20//NONSGML v1.0//EN
CALSCALE:GREGORIAN
METHOD:PUBLISH
X-ORIGINAL-URL:https://cabernetandcanvas.com.au
X-WR-CALDESC:Events for Cabernet &amp; Canvas
REFRESH-INTERVAL;VALUE=DURATION:PT1H
X-Robots-Tag:noindex
X-PUBLISHED-TTL:PT1H
BEGIN:VTIMEZONE
TZID:Australia/Perth
BEGIN:STANDARD
TZOFFSETFROM:+0800
TZOFFSETTO:+0800
TZNAME:AWST
DTSTART:20250101T000000
END:STANDARD
END:VTIMEZONE
BEGIN:VEVENT
DTSTART;TZID=Australia/Perth:20260404T180000
DTEND;TZID=Australia/Perth:20260404T200000
DTSTAMP:20260421T181224
CREATED:20260315T072630Z
LAST-MODIFIED:20260315T073021Z
UID:10002340-1775325600-1775332800@cabernetandcanvas.com.au
SUMMARY:Easter Bunny Basket
DESCRIPTION:Welcome to Cabernet & Canvas\, Perth’s original hub of creative workshops. Enrol now and experience one of our famous Paint & Sip classes where we teach you step-by-step how to recreate an acrylic painting on canvas. We’ve been teaching these classes for 10 + years\, so don’t worry if you have no painting experience – we will work our magic! \n For this class we are painting Easter Bunny Baskets! \nWhat you need to know: \n\nWhere: The Cabernet & Canvas Studio (2/17 Hulme Court\, Myaree)\nWhen: Saturday the 4th of April 2026\nTime: Arrive 5:45pm for a 6:00pm start\nDuration: Class will run for approximately 2 hours.\nAge: Recommended age of 8+\n\nTickets include: \n\nAll required painting materials. Just show up ready to have a good time and wear something you don’t mind getting paint on… just in case!\nSweet Treat\n\nVenue Information \nOur beautiful studio is located in Myaree and is completely BYO so please don’t forget to bring your favourite beverages and snacks to let loose. You can also add one of our delicious grazing boxes at checkout.  \nAbout Cabernet & Canvas \nOur classes are designed to be fun\, social and achievable for beginners. Come on your own or bring a friend. Our artist will walk you through the process step-by-step whilst offering suggestions on how to individualise your artwork. Anyone and everyone are welcome. No prior painting experience is required. \nHave a Question? \nCheck out our helpful FAQ’s at the bottom of this page\, or flick us a message via the Contact Us form. \nClick here to view our Privacy Policy and Terms and Conditions.
URL:https://cabernetandcanvas.com.au/event/easter-bunny-basket/
LOCATION:The Studio – Myaree\, 2/17 Hulme Ct\, Myaree\, WA\, 6154\, Australia
CATEGORIES:Myaree,Paint & Sip,Special Events,Weekend Class
ATTACH;FMTTYPE=image/png:https://cabernetandcanvas.com.au/wp-content/uploads/2026/03/Website-Painting-Gallery-Tiles-400-x-400-px-40.png
ORGANIZER;CN="Cabernet & Canvas":MAILTO:hello@cabernetandcanvas.com.au.
GEO:-32.044463429758;115.81179955691
X-APPLE-STRUCTURED-LOCATION;VALUE=URI;X-ADDRESS=The Studio – Myaree 2/17 Hulme Ct Myaree WA 6154 Australia;X-APPLE-RADIUS=500;X-TITLE=2/17 Hulme Ct:geo:115.81179955691,-32.044463429758
END:VEVENT
END:VCALENDAR