BEGIN:VCALENDAR
VERSION:2.0
PRODID:-//Cabernet &amp; Canvas - ECPv6.15.20//NONSGML v1.0//EN
CALSCALE:GREGORIAN
METHOD:PUBLISH
X-WR-CALNAME:Cabernet &amp; Canvas
X-ORIGINAL-URL:https://cabernetandcanvas.com.au
X-WR-CALDESC:Events for Cabernet &amp; Canvas
REFRESH-INTERVAL;VALUE=DURATION:PT1H
X-Robots-Tag:noindex
X-PUBLISHED-TTL:PT1H
BEGIN:VTIMEZONE
TZID:Australia/Perth
BEGIN:STANDARD
TZOFFSETFROM:+0800
TZOFFSETTO:+0800
TZNAME:AWST
DTSTART:20250101T000000
END:STANDARD
END:VTIMEZONE
BEGIN:VEVENT
DTSTART;TZID=Australia/Perth:20260421T183000
DTEND;TZID=Australia/Perth:20260421T203000
DTSTAMP:20260421T015022
CREATED:20260404T061836Z
LAST-MODIFIED:20260404T061836Z
UID:10002349-1776796200-1776803400@cabernetandcanvas.com.au
SUMMARY:6 Week Seascape Acrylic Painting Course - Eden Sun
DESCRIPTION:Eden Sun\nThis 6-week course will introduce you to a variety of acrylic painting techniques and skills to paint and successfully complete the stunning seascape Eden Sun.  You will be guided by our talented artist Clair throughout the course and develop painting skills that will be useful in painting other painted subject matter. This is an opportunity to become more confident in your abilities and pick up new techniques all whilst having fun. \nThe Classes:\nEach class will run for approximately 2 – 2.5 hours. Our class sizes are small so that we are able to provide individual attention and so that everyone can get to know each other in a fun and supportive environment. \nWhat you need to know:\n\nWhere: The Myaree Cabernet & Canvas Studio (2/17 Hulme Court\, Myaree)\n\n\nWhen: Course starts Tuesday 21st April 2026 (28 Apr\, 05 May\, 12 May\, 19 May\, 26 May)\n\n\nTime: Arrive at 6.15pm for a 6.30pm start\n\n\nALL MATERIALS INCLUDED \nVenue Information \nOur beautiful studio is located in Myaree and is completely BYO so please don’t forget to bring your favourite beverages and snacks to let loose.  \nAbout Cabernet & Canvas \nOur classes are designed to be fun\, social and achievable for beginners. Come on your own or bring a friend. Our artist will walk you through the process step-by-step whilst offering suggestions on how to individualise your artwork. Anyone and everyone are welcome. No prior painting experience is required. \nHave a Question? \nCheck out our helpful FAQ’s at the bottom of this page\, or flick us a message via the Contact Us form. \nClick here to view our Privacy Policy and Terms and Conditions.
URL:https://cabernetandcanvas.com.au/event/6-week-seascape-acrylic-painting-course-eden-sun-3/
LOCATION:The Studio – Myaree\, 2/17 Hulme Ct\, Myaree\, WA\, 6154\, Australia
CATEGORIES:Myaree,Paint & Sip,Special Events
ATTACH;FMTTYPE=image/png:https://cabernetandcanvas.com.au/wp-content/uploads/2026/01/Website-Painting-Gallery-Tiles-400-x-400-px-5-e1768716470476.png
ORGANIZER;CN="Cabernet & Canvas":MAILTO:hello@cabernetandcanvas.com.au.
GEO:-32.044463429758;115.81179955691
X-APPLE-STRUCTURED-LOCATION;VALUE=URI;X-ADDRESS=The Studio – Myaree 2/17 Hulme Ct Myaree WA 6154 Australia;X-APPLE-RADIUS=500;X-TITLE=2/17 Hulme Ct:geo:115.81179955691,-32.044463429758
END:VEVENT
END:VCALENDAR