BEGIN:VCALENDAR
VERSION:2.0
PRODID:-//Cabernet &amp; Canvas - ECPv6.15.20//NONSGML v1.0//EN
CALSCALE:GREGORIAN
METHOD:PUBLISH
X-WR-CALNAME:Cabernet &amp; Canvas
X-ORIGINAL-URL:https://cabernetandcanvas.com.au
X-WR-CALDESC:Events for Cabernet &amp; Canvas
REFRESH-INTERVAL;VALUE=DURATION:PT1H
X-Robots-Tag:noindex
X-PUBLISHED-TTL:PT1H
BEGIN:VTIMEZONE
TZID:Australia/Perth
BEGIN:STANDARD
TZOFFSETFROM:+0800
TZOFFSETTO:+0800
TZNAME:AWST
DTSTART:20250101T000000
END:STANDARD
END:VTIMEZONE
BEGIN:VEVENT
DTSTART;TZID=Australia/Perth:20260430T103000
DTEND;TZID=Australia/Perth:20260430T123000
DTSTAMP:20260421T180923
CREATED:20260409T010808Z
LAST-MODIFIED:20260409T010808Z
UID:10002360-1777545000-1777552200@cabernetandcanvas.com.au
SUMMARY:Studio Open Session
DESCRIPTION:CABERNET & CANVAS CREATIVE COMMUNITY\nOpen Studio Sessions\nLooking for the perfect creative escape? Join us for our casual Open Studio Sessions – a welcoming\, relaxed and inspiring environment where you can unleash your inner creativity. Whether you’re refining your skills or simply craving some creative time\, this is your chance to unwind\, explore\, and create in a beautiful\, shared studio space. \nWork on your own artwork\, at your own pace\, while still having access to guidance and feedback from our talented\, qualified artists. \nWhat you need to know: \n\nOpen Studio Sessions run for 2 hours\nYour experience is fully self‑led\, allowing you to create at your own pace\nComfortable studio setup with easels\, chairs\, and tables ready to go\nBring your own supplies or purchase what you need in‑studio\nA welcoming space for every skill level – beginners to seasoned artists\nBYO drinks and snacks to make it your perfect creative break\n\nTerms & Conditions: \n\nAll tickets are non‑refundable\nTickets must be purchased prior to the session
URL:https://cabernetandcanvas.com.au/event/studio-open-session-3/
LOCATION:The Studio – Myaree\, 2/17 Hulme Ct\, Myaree\, WA\, 6154\, Australia
CATEGORIES:Myaree,Paint & Sip,Special Events
ATTACH;FMTTYPE=image/jpeg:https://cabernetandcanvas.com.au/wp-content/uploads/2023/03/The-Studio4.jpg
ORGANIZER;CN="Cabernet & Canvas":MAILTO:hello@cabernetandcanvas.com.au.
GEO:-32.044463429758;115.81179955691
X-APPLE-STRUCTURED-LOCATION;VALUE=URI;X-ADDRESS=The Studio – Myaree 2/17 Hulme Ct Myaree WA 6154 Australia;X-APPLE-RADIUS=500;X-TITLE=2/17 Hulme Ct:geo:115.81179955691,-32.044463429758
END:VEVENT
END:VCALENDAR