BEGIN:VCALENDAR
VERSION:2.0
PRODID:-//Cabernet &amp; Canvas - ECPv6.15.20//NONSGML v1.0//EN
CALSCALE:GREGORIAN
METHOD:PUBLISH
X-WR-CALNAME:Cabernet &amp; Canvas
X-ORIGINAL-URL:https://cabernetandcanvas.com.au
X-WR-CALDESC:Events for Cabernet &amp; Canvas
REFRESH-INTERVAL;VALUE=DURATION:PT1H
X-Robots-Tag:noindex
X-PUBLISHED-TTL:PT1H
BEGIN:VTIMEZONE
TZID:Australia/Perth
BEGIN:STANDARD
TZOFFSETFROM:+0800
TZOFFSETTO:+0800
TZNAME:AWST
DTSTART:20240101T000000
END:STANDARD
END:VTIMEZONE
BEGIN:VEVENT
DTSTART;TZID=Australia/Perth:20251222T140000
DTEND;TZID=Australia/Perth:20251222T160000
DTSTAMP:20260422T160727
CREATED:20251116T015656Z
LAST-MODIFIED:20251208T083451Z
UID:10002295-1766412000-1766419200@cabernetandcanvas.com.au
SUMMARY:Paint Your Pot | Christmas Edition | Poinsettia Plant Included!
DESCRIPTION:Welcome to Cabernet & Canvas\, Perth’s original hub of creative workshops. We’ve been teaching these classes for 10 + years\, so don’t worry if you have no painting experience – we will work our magic! \nThis one’s for everyone to really enjoy! Our expert instructors will take you step-by-step to painting your very own Christmas themed flowerpot. We will have some examples on the day to show you techniques\, but the design is open to your own imagination! \nWhat you need to know: \n\nWhere: The Joondalup Cabernet & Canvas Studio (6/45 Winton Road\, Joondalup)\n\n\nWhen: Monday 22nd December 2:00pm – 4:00pm.\n\n\nTime: Arrive at 1:45pm for a 2:00pm start… Sharp!\n\n\nDuration: Class will run for approximately 1.5—2 hours\n\nInclusions:\n\nAll required materials to produce a beautiful painted flowerpot\nPlant included\nStep-by-step guidance from our bubbly instructors\n\nVenue Information \nOur beautiful studio is located in Joondalup and is completely BYO so please don’t forget to bring your favourite beverages to let loose. You can also add one of our delicious grazing boxes at checkout.  \nAbout Cabernet & Canvas \nOur classes are designed to be fun\, social and achievable for beginners. Come on your own or bring a friend. Our artist will walk you through the process step-by-step whilst offering suggestions on how to individualise your artwork. Anyone and everyone are welcome. No prior painting experience is required. \nHave a Question? \nCheck out our helpful FAQ’s at the bottom of this page\, or flick us a message via the Contact Us form. \nClick here to view our Privacy Policy and Terms and Conditions.
URL:https://cabernetandcanvas.com.au/event/paint-your-pot-plant-included/
LOCATION:The Studio – Joondalup\, 6/45 Winton Road\, Joondalup\, WA\, 6027\, Australia
CATEGORIES:Family Class,Joondalup,Junior Class,Paint & Sip,Special Events
ATTACH;FMTTYPE=image/png:https://cabernetandcanvas.com.au/wp-content/uploads/2025/11/Website-Painting-Gallery-Tiles-400-x-400-px-3.png
ORGANIZER;CN="Cabernet & Canvas":MAILTO:hello@cabernetandcanvas.com.au.
GEO:-31.7485974;115.7610242
X-APPLE-STRUCTURED-LOCATION;VALUE=URI;X-ADDRESS=The Studio – Joondalup 6/45 Winton Road Joondalup WA 6027 Australia;X-APPLE-RADIUS=500;X-TITLE=6/45 Winton Road:geo:115.7610242,-31.7485974
END:VEVENT
BEGIN:VEVENT
DTSTART;TZID=Australia/Perth:20251223T103000
DTEND;TZID=Australia/Perth:20251223T123000
DTSTAMP:20260422T160727
CREATED:20251116T020913Z
LAST-MODIFIED:20251116T020939Z
UID:10002296-1766485800-1766493000@cabernetandcanvas.com.au
SUMMARY:Santa's Sleigh: Family Class
DESCRIPTION:Welcome to Cabernet & Canvas\, Perth’s original hub of creative workshops. Enrol now for you and your little one to experience our Christmas Santa’s Sleigh! \n We will guide you step-by-step through creating your own Santa’s Sleigh painting. Glitter included! \nWhat you need to know: \n\nWhere: The Joondalup Cabernet & Canvas Studio (6/45 Winton Road\, Joondalup)\n\n\nWhen: Tuesday 23rd December 2025\n\n\nTime: Arrive at 10.15am for a 10.30am start… Sharp!\n\n\nDuration: Class will run for approximately 1.5—2 hours\n\nVenue Information \nOur beautiful studio is located in Joondalup and is completely BYO so please don’t forget to bring your favourite snacks and beverages. You can also add on one of our delicious grazing boxes at checkout.  \nAbout Cabernet & Canvas \nOur classes are designed to be fun\, social and achievable for beginners. Come on your own or bring a friend. Our artist will walk you through the process step-by-step whilst offering suggestions on how to individualise your artwork. Anyone and everyone are welcome. No prior painting experience is required. \nHave a Question? \nCheck out our helpful FAQ’s at the bottom of this page\, or flick us a message via the Contact Us form. \nClick here to view our Privacy Policy and Terms and Conditions.
URL:https://cabernetandcanvas.com.au/event/santas-sleigh-family-class-2/
LOCATION:The Studio – Joondalup\, 6/45 Winton Road\, Joondalup\, WA\, 6027\, Australia
CATEGORIES:Christmas,Family Class,Joondalup,Junior Class,Paint & Sip
ATTACH;FMTTYPE=image/jpeg:https://cabernetandcanvas.com.au/wp-content/uploads/2025/11/Website-Painting-Gallery-Tiles-400-x-400-px.jpg
ORGANIZER;CN="Cabernet & Canvas":MAILTO:hello@cabernetandcanvas.com.au.
GEO:-31.7485974;115.7610242
X-APPLE-STRUCTURED-LOCATION;VALUE=URI;X-ADDRESS=The Studio – Joondalup 6/45 Winton Road Joondalup WA 6027 Australia;X-APPLE-RADIUS=500;X-TITLE=6/45 Winton Road:geo:115.7610242,-31.7485974
END:VEVENT
BEGIN:VEVENT
DTSTART;TZID=Australia/Perth:20260102T183000
DTEND;TZID=Australia/Perth:20260102T210000
DTSTAMP:20260422T160727
CREATED:20251227T232010Z
LAST-MODIFIED:20251227T232010Z
UID:10002299-1767378600-1767387600@cabernetandcanvas.com.au
SUMMARY:Paint Your Mate
DESCRIPTION:Paint Your Mate is back! Running the first Friday of every month but get in quick as this one is a crowd favourite! \nDon’t know what it is? \nPaint Your Mate is one of most popular workshop experiences\, where you get to paint whacky colourful portraits of friends\, family members or even yourself. Can’t paint? Don’t worry\, we draw inspiration from Picasso for these sessions\, so they are intentionally unrealistic. These Piccasso-esque paintings are sure to brighten up any room and we personally think they are perfect for team- building events. \nWhat you need to know: \n\nWhere: The Cab Canvas Studio (2/17 Hulme Court\, Myaree)\n\n\nWhen: Friday the 2nd of January\, 2026\n\n\nTime: Arrive at 6.15pm for a 6.30pm start… Sharp!\n\n\nDuration: Class will run for approximately 2—2.5 hours\n\nTickets include all required painting materials. Just show up ready to have a good time and wear something you don’t mind getting paint on… just in case! \nAbout Cabernet & Canvas \nWelcome to Cabernet & Canvas\, Perth’s original hub of creative workshops. Enroll now and experience one of our famous Paint & Sip classes where we teach you step-by-step how to recreate an acrylic painting on canvas. We’ve been teaching these classes for 10 + years\, so don’t worry if you have no painting experience – we will work our magic! \nOur classes are designed to be fun\, social and achievable for beginners. Come on your own or bring a friend. No prior painting experience is required. \nVenue Information \nOur beautiful studio is located in Myaree and is completely BYO so please don’t forget to bring your favourite beverages to let loose. You can also add one of our delicious grazing boxes by AmazingGrazingWA at checkout.  \nHave a Question? \nCheck out our helpful FAQ’s at the bottom of this page\, or flick us a message via the Contact Us form. \nClick here to view our Privacy Policy and Terms and Conditions.
URL:https://cabernetandcanvas.com.au/event/paint-your-mate-17/
LOCATION:The Studio – Myaree\, 2/17 Hulme Ct\, Myaree\, WA\, 6154\, Australia
CATEGORIES:Myaree,Paint & Sip
ATTACH;FMTTYPE=image/jpeg:https://cabernetandcanvas.com.au/wp-content/uploads/2023/11/Paint-Your-Mate-main-girls.jpg
ORGANIZER;CN="Cabernet & Canvas":MAILTO:hello@cabernetandcanvas.com.au.
GEO:-32.044463429758;115.81179955691
X-APPLE-STRUCTURED-LOCATION;VALUE=URI;X-ADDRESS=The Studio – Myaree 2/17 Hulme Ct Myaree WA 6154 Australia;X-APPLE-RADIUS=500;X-TITLE=2/17 Hulme Ct:geo:115.81179955691,-32.044463429758
END:VEVENT
BEGIN:VEVENT
DTSTART;TZID=Australia/Perth:20260103T103000
DTEND;TZID=Australia/Perth:20260103T123000
DTSTAMP:20260422T160727
CREATED:20251228T011836Z
LAST-MODIFIED:20251228T011836Z
UID:10002304-1767436200-1767443400@cabernetandcanvas.com.au
SUMMARY:Junior Class: Friendship Bracelets
DESCRIPTION:Welcome to Cabernet & Canvas\, Perth’s original hub of creative workshops. Enrol now and experience one of our amazing School Holidays events where we teach you and your kiddies step-by-step how to recreate an acrylic painting on canvas.  \n For this class we are painting our beautiful painting Friendship Bracelets! Customise with gemstones and glitter!  \nComplimentary fruit box and fresh fruit! \nWhat you need to know: \n\nWhere: The Cabernet & Canvas Studio (2/17 Hulme Court\, Myaree)\nWhen: Saturday 3rd January 2026\nTime: Arrive 10:15am for a 10:30am start\nDuration: Class will run for approximately 2 hours.\nAge: Recommended age 5+ to 15 years.\n\nTickets include all required painting materials. Just show up ready to have a good time and wear something you don’t mind getting paint on… just in case! \nVenue Information \nOur beautiful studio is located in Myaree. You are welcome to bring your own snacks and drinks. \nAbout Cabernet & Canvas \nOur classes are designed to be fun\, social and achievable for beginners. Come on your own or bring a friend. Our artist will walk you through the process step-by-step whilst offering suggestions on how to individualise your artwork. Anyone and everyone are welcome. No prior painting experience is required. \nHave a Question? \nCheck out our helpful FAQ’s at the bottom of this page\, or flick us a message via the Contact Us form. \nClick here to view our Privacy Policy and Terms and Conditions.
URL:https://cabernetandcanvas.com.au/event/junior-class-friendship-bracelets/
LOCATION:The Studio – Myaree\, 2/17 Hulme Ct\, Myaree\, WA\, 6154\, Australia
CATEGORIES:Junior Class,Myaree,Paint & Sip
ATTACH;FMTTYPE=image/png:https://cabernetandcanvas.com.au/wp-content/uploads/2025/12/Website-Painting-Gallery-Tiles-400-x-400-px-4.png
ORGANIZER;CN="Cabernet & Canvas":MAILTO:hello@cabernetandcanvas.com.au.
GEO:-32.044463429758;115.81179955691
X-APPLE-STRUCTURED-LOCATION;VALUE=URI;X-ADDRESS=The Studio – Myaree 2/17 Hulme Ct Myaree WA 6154 Australia;X-APPLE-RADIUS=500;X-TITLE=2/17 Hulme Ct:geo:115.81179955691,-32.044463429758
END:VEVENT
BEGIN:VEVENT
DTSTART;TZID=Australia/Perth:20260106T103000
DTEND;TZID=Australia/Perth:20260106T130000
DTSTAMP:20260422T160727
CREATED:20251109T004158Z
LAST-MODIFIED:20251109T004158Z
UID:10002287-1767695400-1767704400@cabernetandcanvas.com.au
SUMMARY:6 Week Seascape Acrylic Painting Course - Sunset
DESCRIPTION:Sunset\nThis 6-week course will introduce you to a variety of acrylic painting techniques and skills to paint and successfully complete the stunning seascape Sunset.  You will be guided by our talented artist Clair throughout the course and develop painting skills that will be useful in painting other painted subject matter. This is an opportunity to become more confident in your abilities and pick up new techniques all whilst having fun. \nThe Classes:\nEach class will run for approximately 2.5 hours and includes a glass of Cabernet and some nibbles to get your creative juices flowing.  Our class sizes are small so that we are able to provide individual attention and so that everyone can get to know each other in a fun and supportive environment. \nWhat you need to know:\n\nWhere: The Joondalup Cabernet & Canvas Studio (6/45 Winton Road\, Joondalup)\n\n\nWhen: Course starts Tuesday 6th January 2026\n\n\nTime: Arrive at 10.15am for a 10.30am start\n\n\nALL MATERIALS INCLUDED \n  \nVenue Information \nOur beautiful studio is located in Joondalup and is completely BYO so please don’t forget to bring your favourite beverages to let loose. You can also add one of our delicious grazing boxes by AmazingGrazingWA at checkout.  \nAbout Cabernet & Canvas \nOur classes are designed to be fun\, social and achievable for beginners. Come on your own or bring a friend. Our artist will walk you through the process step-by-step whilst offering suggestions on how to individualise your artwork. Anyone and everyone are welcome. No prior painting experience is required. \nHave a Question? \nCheck out our helpful FAQ’s at the bottom of this page\, or flick us a message via the Contact Us form. \nClick here to view our Privacy Policy and Terms and Conditions.
URL:https://cabernetandcanvas.com.au/event/6-week-seascape-acrylic-painting-course-sunset/
LOCATION:The Studio – Joondalup\, 6/45 Winton Road\, Joondalup\, WA\, 6027\, Australia
CATEGORIES:Joondalup,Special Events
ATTACH;FMTTYPE=image/jpeg:https://cabernetandcanvas.com.au/wp-content/uploads/2025/11/Clair-Artwork.jpg
ORGANIZER;CN="Cabernet & Canvas":MAILTO:hello@cabernetandcanvas.com.au.
GEO:-31.7485974;115.7610242
X-APPLE-STRUCTURED-LOCATION;VALUE=URI;X-ADDRESS=The Studio – Joondalup 6/45 Winton Road Joondalup WA 6027 Australia;X-APPLE-RADIUS=500;X-TITLE=6/45 Winton Road:geo:115.7610242,-31.7485974
END:VEVENT
BEGIN:VEVENT
DTSTART;TZID=Australia/Perth:20260110T140000
DTEND;TZID=Australia/Perth:20260110T163000
DTSTAMP:20260422T160727
CREATED:20251228T013725Z
LAST-MODIFIED:20251228T013725Z
UID:10002306-1768053600-1768062600@cabernetandcanvas.com.au
SUMMARY:Watercolour & Wine: Oceanic Creatures
DESCRIPTION:Welcome to Cabernet & Canvas\, Perth’s original hub of creative workshops. In this class we will guide you through how to use watercolours for the first time as we paint beautiful oceanic creatures! \nYou will have the opportunity to learn several watercolour techniques and be guided through creation of your very own deep- sea creatures. \nWe’ve been teaching these classes for 10 + years\, so don’t worry if you have no painting experience – we will work our magic! \nComplimentary drink on arrival! \nWhat you need to know: \n\nWhere: The Cabernet & Canvas Studio (2/17 Hulme Court\, Myaree)\n\n\nWhen: Saturday 10th January 2026\n\n\nTime: Arrive at 1.45pm for a 2.00pm start… Sharp!\n\n\nDuration: Class will run for approximately 2—2.5 hours\n\nTickets include all required painting materials. Just show up ready to have a good time and wear something you don’t mind getting paint on… just in case! \nVenue Information \nOur beautiful studio is located in Myaree and is completely BYO so please don’t forget to bring your favourite beverages to let loose. You can also add one of our delicious grazing boxes at checkout.  \nAbout Cabernet & Canvas \nOur classes are designed to be fun\, social and achievable for beginners. Come on your own or bring a friend. Our artist will walk you through the process step-by-step whilst offering suggestions on how to individualise your artwork. Anyone and everyone are welcome. No prior painting experience is required. \nHave a Question? \nCheck out our helpful FAQ’s at the bottom of this page\, or flick us a message via the Contact Us form. \nClick here to view our Privacy Policy and Terms and Conditions.
URL:https://cabernetandcanvas.com.au/event/watercolour-wine-oceanic-creatures/
LOCATION:The Studio – Myaree\, 2/17 Hulme Ct\, Myaree\, WA\, 6154\, Australia
CATEGORIES:Myaree,Paint & Sip,Special Events,Watercolors,Weekend Class
ATTACH;FMTTYPE=image/jpeg:https://cabernetandcanvas.com.au/wp-content/uploads/2023/10/Watercolour-Wine.jpg
ORGANIZER;CN="Cabernet & Canvas":MAILTO:hello@cabernetandcanvas.com.au.
GEO:-32.044463429758;115.81179955691
X-APPLE-STRUCTURED-LOCATION;VALUE=URI;X-ADDRESS=The Studio – Myaree 2/17 Hulme Ct Myaree WA 6154 Australia;X-APPLE-RADIUS=500;X-TITLE=2/17 Hulme Ct:geo:115.81179955691,-32.044463429758
END:VEVENT
BEGIN:VEVENT
DTSTART;TZID=Australia/Perth:20260111T140000
DTEND;TZID=Australia/Perth:20260111T160000
DTSTAMP:20260422T160727
CREATED:20251227T234825Z
LAST-MODIFIED:20251227T234825Z
UID:10002301-1768140000-1768147200@cabernetandcanvas.com.au
SUMMARY:Resin Ocean Boards
DESCRIPTION:In this class we teach you how to use resin for the first time and go through the steps to re-create these beautiful resin ocean boards—the perfect addition to your coffee table or as a cheese platter! And would make a gorgeous gift for someone special!! \nWhat you need to know: \n\nWhere: The Cabernet & Canvas Studio (2/17 Hulme Court\, Myaree)\n\n\nWhen: Sunday the 11th January 2026\n\n\nTime: Arrive at 1:45pm for a 2:00pm start\n\n\nDuration: Class will run for approximately 2 hours\n\nPlease note\, when resin is mixed it creates a chemical reaction that releases toxins. These can be harmful for pregnant woman or those with respiratory issues and is not suitable for children to attend.  \nPickup: \nYou will need to leave the boards to cure and collect your artwork the following week. We will contact you to arrange a suitable collection time. \nWhat to wear: \nWe recommend wearing clothes you don’t mind getting resin on… just in case! \nVenue Information \nOur beautiful studio is located in Myaree and is completely BYO so please don’t forget to bring your favourite beverages to let loose. You can also add one of our delicious grazing boxes at checkout.  \nAbout Cabernet & Canvas \nOur classes are designed to be fun\, social and achievable for beginners. Come on your own or bring a friend. Our artist will walk you through the process step-by-step whilst offering suggestions on how to individualise your artwork. Anyone and everyone are welcome. No prior experience is required. \nHave a Question? \nCheck out our helpful FAQ’s at the bottom of this page\, or flick us a message via the Contact Us form. \nClick here to view our Privacy Policy and Terms and Conditions.
URL:https://cabernetandcanvas.com.au/event/resin-ocean-boards-11/
LOCATION:The Studio – Myaree\, 2/17 Hulme Ct\, Myaree\, WA\, 6154\, Australia
CATEGORIES:Myaree,Resin,Special Events,Weekend Class
ATTACH;FMTTYPE=image/jpeg:https://cabernetandcanvas.com.au/wp-content/uploads/2023/06/Resin-Ocean-Boards-scaled.jpeg
ORGANIZER;CN="Cabernet & Canvas":MAILTO:hello@cabernetandcanvas.com.au.
GEO:-32.044463429758;115.81179955691
X-APPLE-STRUCTURED-LOCATION;VALUE=URI;X-ADDRESS=The Studio – Myaree 2/17 Hulme Ct Myaree WA 6154 Australia;X-APPLE-RADIUS=500;X-TITLE=2/17 Hulme Ct:geo:115.81179955691,-32.044463429758
END:VEVENT
END:VCALENDAR