BEGIN:VCALENDAR
VERSION:2.0
PRODID:-//Cabernet &amp; Canvas - ECPv6.15.20//NONSGML v1.0//EN
CALSCALE:GREGORIAN
METHOD:PUBLISH
X-ORIGINAL-URL:https://cabernetandcanvas.com.au
X-WR-CALDESC:Events for Cabernet &amp; Canvas
REFRESH-INTERVAL;VALUE=DURATION:PT1H
X-Robots-Tag:noindex
X-PUBLISHED-TTL:PT1H
BEGIN:VTIMEZONE
TZID:Australia/Perth
BEGIN:STANDARD
TZOFFSETFROM:+0800
TZOFFSETTO:+0800
TZNAME:AWST
DTSTART:20220101T000000
END:STANDARD
END:VTIMEZONE
BEGIN:VEVENT
DTSTART;TZID=Australia/Perth:20231025T183000
DTEND;TZID=Australia/Perth:20231025T210000
DTSTAMP:20260422T160941
CREATED:20231011T072317Z
LAST-MODIFIED:20240223T035828Z
UID:10001919-1698258600-1698267600@cabernetandcanvas.com.au
SUMMARY:Llama Party
DESCRIPTION:Welcome to Cabernet & Canvas\, where we teach you step-by-step how to recreate a painting on canvas. Join us for a fun mid-week treat as we attempt to re-create our original painting\, Llama Party. \nOur studio in Myaree is BYO drinks\, so please don’t forget to bring a beverage to paint with. We encourage you to pair your drink with one of our delicious grazing boxes you can select as an ‘add-on’ when booking to help you get in the creative zone. \nWhen to come? – Arrive at 6:15 pm for a 6:30 pm start time. \nWhat to bring? – Yourself! All required materials are provided. \nWhat to wear? – We provide you with an apron but recommend wearing something you wouldn’t mind getting paint on- just in case! \nAbout the Venue \nOur studio is located inside Hulme Court with lots of other busy businesses around. Please park anywhere in the complex and walk over as there are limited bays outside the shop front. We are next door to the Windsurfing shop\, with the animal mural painted outside. \nVenue Requirements \n\n\nThe venue has disability access \n\n\nThere is plenty of parking within Hulme Court after 5pm \n\n\nTerms & Conditions \nFor questions regarding booking\, registration\, and general information\, please contact us at hello@cabernetandcanvas.com.au or view our Privacy Policy and Terms and Conditions.
URL:https://cabernetandcanvas.com.au/event/llama-party/
LOCATION:The Studio – Myaree\, 2/17 Hulme Ct\, Myaree\, WA\, 6154\, Australia
CATEGORIES:Myaree,Paint & Sip
ATTACH;FMTTYPE=image/jpeg:https://cabernetandcanvas.com.au/wp-content/uploads/2023/10/Llama-Party.jpg
ORGANIZER;CN="Cabernet & Canvas":MAILTO:hello@cabernetandcanvas.com.au.
GEO:-32.044463429758;115.81179955691
X-APPLE-STRUCTURED-LOCATION;VALUE=URI;X-ADDRESS=The Studio – Myaree 2/17 Hulme Ct Myaree WA 6154 Australia;X-APPLE-RADIUS=500;X-TITLE=2/17 Hulme Ct:geo:115.81179955691,-32.044463429758
END:VEVENT
BEGIN:VEVENT
DTSTART;TZID=Australia/Perth:20231022T140000
DTEND;TZID=Australia/Perth:20231022T160000
DTSTAMP:20260422T160941
CREATED:20231005T070957Z
LAST-MODIFIED:20240223T035013Z
UID:10001896-1697983200-1697990400@cabernetandcanvas.com.au
SUMMARY:Floral Resin Coasters
DESCRIPTION:Join us at the Cab Canvas Studio in Myaree for a blissful afternoon learning a new hobby and creating a stunning set of floral coasters. Throughout the workshop we will teach you how to use a casting resin for the first time and go through the steps to re-create these beautiful resin coasters using dried florals—the perfect addition to your coffee table! Grab a pal and a beverage and book yourselves in for a fun afternoon outside the comfort zone. \nPlease note\, when resin is mixed it creates a chemical reaction that releases toxins. These can be harmful for pregnant woman or those with respiratory issues. Not suitable for under 18s. \nWhen to come? – Arrive 1:45pm for a 2:00pm start\, sharp! \nWhat to bring? – Yourself! All materials are provided! \nBYO Drinks! If you’re after some food too\, we have the most delicious grazing boxes you can select as a ‘add-on’ when booking. \nWhat to wear? – We provide you with an apron but recommend wearing something you wouldn’t mind getting resin on… just in case! It is really difficult to remove from clothing. \nPlease note\, when resin is mixed it creates a chemical reaction that releases toxins. These can be harmful for pregnant woman or those with respiratory issues. Please re- think allowing children to attend. \nPickup: \nWe need to leave the moulds to cure overnight. You will need to collect your coasters in the week following the event. We will send out communication to all participants after the event outlining which days our Studio will be open for collection times. \nAbout the Venue \nOur studio is located inside Hulme Court with lots of other busy businesses around. Please park anywhere in the complex and walk over as there are limited bays outside the shop front. We are next door to the Windsurfing shop\, with the animal mural painted outside. \nVenue Requirements \n\n\nThe venue has disability access \n\n\nTerms & Conditions \nFor questions regarding booking\, registration\, and general information\, please contact us at hello@cabernetandcanvas.com.au or view our  Privacy Policy and Terms and Conditions. \n 
URL:https://cabernetandcanvas.com.au/event/floral-resin-coasters/
LOCATION:The Studio – Myaree\, 2/17 Hulme Ct\, Myaree\, WA\, 6154\, Australia
CATEGORIES:Myaree,Resin,Weekend Class
ATTACH;FMTTYPE=image/jpeg:https://cabernetandcanvas.com.au/wp-content/uploads/2023/10/Floral-Resin-Coasters.jpg
ORGANIZER;CN="Cabernet & Canvas":MAILTO:hello@cabernetandcanvas.com.au.
GEO:-32.044463429758;115.81179955691
X-APPLE-STRUCTURED-LOCATION;VALUE=URI;X-ADDRESS=The Studio – Myaree 2/17 Hulme Ct Myaree WA 6154 Australia;X-APPLE-RADIUS=500;X-TITLE=2/17 Hulme Ct:geo:115.81179955691,-32.044463429758
END:VEVENT
BEGIN:VEVENT
DTSTART;TZID=Australia/Perth:20231021T140000
DTEND;TZID=Australia/Perth:20231021T170000
DTSTAMP:20260422T160941
CREATED:20231011T073030Z
LAST-MODIFIED:20240223T033837Z
UID:10001920-1697896800-1697907600@cabernetandcanvas.com.au
SUMMARY:Barbie High Tea
DESCRIPTION:Look\, we’re a little behind the trend. However\, Barbie is still relevant and this event is going to be legendary. Join us for our exclusive first event with Turquoise Cafe and indulge in a delightful fusion of creativity and elegance at our High Tea Paint & Sip event! Tickets include a Barbie Martini on arrival and bite-size canapaes to share while you paint the afternoon away! \nWhen to come? – Arrive from 1:45pm to get settled in\, ready for 2pm kick off! \n\n\n\n\n\n\nWhat to bring? – Yourself! All painting materials are provided. \nWhat to wear? – We provide you with an apron but recommend wearing something you wouldn’t mind getting paint on… just in case! Although acrylic paint is water-soluble\, it is nearly impossible to remove once it dries completely. \nVenue Information \n\n\nB.Y.O. is not permitted as this is a licensed venue \n\n\nDisability access is available \n\n\nTerms & Conditions \nFor questions regarding booking\, registration\, and general information\, please contact us at hello@cabernetandcanvas.com.au or view our  Privacy Policy and Terms and Conditions.
URL:https://cabernetandcanvas.com.au/event/barbie-high-tea/
LOCATION:Turquoise Cafe Wanneroo\, 10 Conlan Avenue\, Wanneroo\, WA\, 6065\, Australia
CATEGORIES:Paint & Sip,Wanneroo,Weekend Class
ATTACH;FMTTYPE=image/jpeg:https://cabernetandcanvas.com.au/wp-content/uploads/2023/10/Barbie-High-Tea.jpg
ORGANIZER;CN="Cabernet & Canvas":MAILTO:hello@cabernetandcanvas.com.au.
GEO:-32.5274049;115.7176689
X-APPLE-STRUCTURED-LOCATION;VALUE=URI;X-ADDRESS=Turquoise Cafe Wanneroo 10 Conlan Avenue Wanneroo WA 6065 Australia;X-APPLE-RADIUS=500;X-TITLE=10 Conlan Avenue:geo:115.7176689,-32.5274049
END:VEVENT
BEGIN:VEVENT
DTSTART;TZID=Australia/Perth:20231018T183000
DTEND;TZID=Australia/Perth:20231018T210000
DTSTAMP:20260422T160941
CREATED:20231011T073932Z
LAST-MODIFIED:20240223T035601Z
UID:10001922-1697653800-1697662800@cabernetandcanvas.com.au
SUMMARY:Hamelin Bay Stingrays
DESCRIPTION:Paint & Sip Event: Summer Spritz \nWelcome to Cabernet & Canvas\, where we teach you step-by-step how to recreate a painting on canvas. Join us for a night of fun as we attempt to re-create our original painting\, Hamelin Bay Stingrays! \nTickets include a $15 voucher to be spent at the venue on food or beverages so you can paint and sip the night away. \nWhat you need to know: \n\nWhere: Clancy’s\, Fremantle\n\n\nWhen: Wednesday the 18th of October\, 2023\n\n\nTime: Arrive 6:15 pm for a 6:00pm start\n\n\nDuration: Class will run for approximately 2—2.5 hours\n\nTickets include all required painting materials. Just show up ready to have a good time and wear something you don’t mind getting paint on… just in case! \nAbout Cabernet & Canvas\n \nOur classes are designed to be fun\, social and achievable for beginners. Come on your own or bring a friend. Our artist will walk you through the process step-by-step whilst offering suggestions on how to individualise your artwork. Anyone and everyone is welcome\, no prior painting experience required. \nAbout the Venue \n\nPlease note this is a licensed venue\, so B.Y.O. is not permitted. There will be food and drink available for purchase at the venue.\n\nTerms & Conditions \nFor questions regarding booking\, registration\, and general information\, please contact us at hello@cabernetandcanvas.com.au or view our  Privacy Policy and Terms and Conditions.
URL:https://cabernetandcanvas.com.au/event/hamelin-bay-stingrays-2/
LOCATION:Clancys\, 51 Cantonment St\, Fremantle\, WA\, 6160\, Australia
CATEGORIES:Fremantle,Paint & Sip
ATTACH;FMTTYPE=image/jpeg:https://cabernetandcanvas.com.au/wp-content/uploads/2023/10/Hamelin-Bay-Stingrays.jpg
ORGANIZER;CN="Cabernet & Canvas":MAILTO:hello@cabernetandcanvas.com.au.
GEO:-32.0503447;115.7489674
X-APPLE-STRUCTURED-LOCATION;VALUE=URI;X-ADDRESS=Clancys 51 Cantonment St Fremantle WA 6160 Australia;X-APPLE-RADIUS=500;X-TITLE=51 Cantonment St:geo:115.7489674,-32.0503447
END:VEVENT
BEGIN:VEVENT
DTSTART;TZID=Australia/Perth:20231017T183000
DTEND;TZID=Australia/Perth:20231017T210000
DTSTAMP:20260422T160941
CREATED:20231011T074340Z
LAST-MODIFIED:20231121T041905Z
UID:10001923-1697567400-1697576400@cabernetandcanvas.com.au
SUMMARY:Van Gogh's Seascape
DESCRIPTION:Get into the creative zone and join us for a night of fun as we guide you step-by-step through painting an impressionist classic; Van Goghs Seascape near Les Saintes-Maries-de-la-Mer. Impressionism is all about letting your hair down\, slapping the paint on thick and steering a way from representative forms and more into loose\, bold brushstrokes. You’re gonna love it. \nTickets include a $15 voucher to be spent at the venue on food or beverage so you can paint and sip the night away. \nWhen to come? – Arrive from 6 pm to get settled in\, order food and drinks from the bar and get ready to have fun! Class starts at 6:30 pm sharp and goes for approximately 2—2.5 hours. \nWhat to bring? – Yourself! All painting materials are provided. \nWhat to wear? – We provide you with an apron but recommend wearing something you wouldn’t mind getting paint on… just in case! Although acrylic paint is water-soluble\, it is nearly impossible to remove once it dries completely. \nVenue Information \n\n\nB.Y.O. is not permitted as this is a licensed venue. \n\n\nUnfortunately\, this venue does not have disability access. \n\n\nTerms & Conditions \nFor questions regarding booking\, registration\, and general information\, please contact us at hello@cabernetandcanvas.com.au or view our Privacy Policy and Terms and Conditions.
URL:https://cabernetandcanvas.com.au/event/van-goghs-seascape-wembley/
LOCATION:The Wembley\, 344 Cambridge St\, Wembley\, WA\, 6014\, Australia
CATEGORIES:Paint & Sip,Wembley
ATTACH;FMTTYPE=image/jpeg:https://cabernetandcanvas.com.au/wp-content/uploads/2023/10/Van-Goghs-Seascape.jpg
ORGANIZER;CN="Cabernet & Canvas":MAILTO:hello@cabernetandcanvas.com.au.
GEO:-31.9406445;115.8098862
X-APPLE-STRUCTURED-LOCATION;VALUE=URI;X-ADDRESS=The Wembley 344 Cambridge St Wembley WA 6014 Australia;X-APPLE-RADIUS=500;X-TITLE=344 Cambridge St:geo:115.8098862,-31.9406445
END:VEVENT
BEGIN:VEVENT
DTSTART;TZID=Australia/Perth:20231014T130000
DTEND;TZID=Australia/Perth:20231014T153000
DTSTAMP:20260422T160941
CREATED:20231011T075241Z
LAST-MODIFIED:20240223T035917Z
UID:10001925-1697288400-1697297400@cabernetandcanvas.com.au
SUMMARY:Matilda Bay
DESCRIPTION:Welcome to Cabernet & Canvas\, where we teach you step-by-step how to recreate a painting on canvas. Join us for an afternoon of fun as we guide you through re-creating our original creation\, Matilda Bay! \nTickets include a $15 voucher to be spent at the venue on food or beverage so you can paint and sip the afternoon away. \nWhen to come? – Arrive from 12:30pm to get settled in\, order food and drinks from the bar and get ready to have fun! Class starts at 1pm sharp! \nWhat to bring? – Yourself! All painting materials are provided. \nWhat to wear? – We provide you with an apron but recommend wearing something you wouldn’t mind getting paint on… just in case! Although acrylic paint is water-soluble\, it is nearly impossible to remove once it dries completely. \nVenue Information \n\n\nB.Y.O. is not permitted as this is a licensed venue. \n\n\nThis venue has disability access. \n\n\nTerms & Conditions \nFor questions regarding booking\, registration\, and general information\, please contact us at hello@cabernetandcanvas.com.au or view our  Privacy Policy and Terms and Conditions..
URL:https://cabernetandcanvas.com.au/event/matilda-bay/
LOCATION:The Quarie Bar & Brasserie\, 2 Macquarie Boulevard\, Hammond Park\, WA\, 6164\, Australia
CATEGORIES:Hammond Park,Paint & Sip,Weekend Class
ATTACH;FMTTYPE=image/jpeg:https://cabernetandcanvas.com.au/wp-content/uploads/2023/10/Matilda-Bay.jpg
ORGANIZER;CN="Cabernet & Canvas":MAILTO:hello@cabernetandcanvas.com.au.
GEO:-32.1603707;115.8460303
X-APPLE-STRUCTURED-LOCATION;VALUE=URI;X-ADDRESS=The Quarie Bar & Brasserie 2 Macquarie Boulevard Hammond Park WA 6164 Australia;X-APPLE-RADIUS=500;X-TITLE=2 Macquarie Boulevard:geo:115.8460303,-32.1603707
END:VEVENT
BEGIN:VEVENT
DTSTART;TZID=Australia/Perth:20231013T183000
DTEND;TZID=Australia/Perth:20231013T210000
DTSTAMP:20260422T160941
CREATED:20231011T075656Z
LAST-MODIFIED:20240223T035537Z
UID:10001926-1697221800-1697230800@cabernetandcanvas.com.au
SUMMARY:Gumnut Blossoms
DESCRIPTION:Welcome to Cabernet & Canvas\, where we teach you step-by-step how to recreate a painting on canvas. Join us for a creative Wednesday evening as we guide you step-by-step through recreating our original work\, Gumnut Blossoms! \nTickets include a $15 voucher to be spent at the venue on food or drinks so you can paint and sip the night away. \nWhen to come? – Arrive from 6 pm to get settled in\, order food and drinks from the bar and get ready to have fun! The class starts at 6:30 pm sharp! \nWhat to bring? – Yourself! All painting materials are provided. \nWhat to wear? – We provide you with an apron but recommend wearing something you wouldn’t mind getting paint on… just in case! Although acrylic paint is water-soluble\, it is nearly impossible to remove once it dries completely. \nVenue Information \n\n\nB.Y.O. is not permitted as this is a licensed venue \n\n\nDisability access is available \n\n\nTerms & Conditions \nFor questions regarding booking\, registration\, and general information\, please contact us at hello@cabernetandcanvas.com.au or view our  Privacy Policy and Terms and Conditions.
URL:https://cabernetandcanvas.com.au/event/gumnut-blossoms/
LOCATION:Inglewood Bowling and Sports Club\, 1 Stancliffe Street\, Mount Lawley\, WA\, 6050\, Australia
CATEGORIES:Mt Lawley,Paint & Sip
ATTACH;FMTTYPE=image/jpeg:https://cabernetandcanvas.com.au/wp-content/uploads/2023/10/Gumnut-Blossoms.jpg
ORGANIZER;CN="Cabernet & Canvas":MAILTO:hello@cabernetandcanvas.com.au.
GEO:-31.9204142;115.8723699
X-APPLE-STRUCTURED-LOCATION;VALUE=URI;X-ADDRESS=Inglewood Bowling and Sports Club 1 Stancliffe Street Mount Lawley WA 6050 Australia;X-APPLE-RADIUS=500;X-TITLE=1 Stancliffe Street:geo:115.8723699,-31.9204142
END:VEVENT
END:VCALENDAR