BEGIN:VCALENDAR
VERSION:2.0
PRODID:-//Cabernet &amp; Canvas - ECPv6.15.20//NONSGML v1.0//EN
CALSCALE:GREGORIAN
METHOD:PUBLISH
X-WR-CALNAME:Cabernet &amp; Canvas
X-ORIGINAL-URL:https://cabernetandcanvas.com.au
X-WR-CALDESC:Events for Cabernet &amp; Canvas
REFRESH-INTERVAL;VALUE=DURATION:PT1H
X-Robots-Tag:noindex
X-PUBLISHED-TTL:PT1H
BEGIN:VTIMEZONE
TZID:Australia/Perth
BEGIN:STANDARD
TZOFFSETFROM:+0800
TZOFFSETTO:+0800
TZNAME:AWST
DTSTART:20250101T000000
END:STANDARD
END:VTIMEZONE
BEGIN:VEVENT
DTSTART;TZID=Australia/Perth:20260509T103000
DTEND;TZID=Australia/Perth:20260509T123000
DTSTAMP:20260421T065100
CREATED:20260404T065351Z
LAST-MODIFIED:20260404T065351Z
UID:10002351-1778322600-1778329800@cabernetandcanvas.com.au
SUMMARY:6 Week Seascape Acrylic Painting Course - Big Blue
DESCRIPTION:Big Blue\nThis 6-week course will introduce you to a variety of acrylic painting techniques and skills to paint and successfully complete the stunning seascape Eden Sun.  You will be guided by our talented artist Clair throughout the course and develop painting skills that will be useful in painting other painted subject matter. This is an opportunity to become more confident in your abilities and pick up new techniques all whilst having fun. \nThe Classes:\nEach class will run for approximately 2 – 2.5 hours. Our class sizes are small so that we are able to provide individual attention and so that everyone can get to know each other in a fun and supportive environment. \nWhat you need to know:\n\nWhere: The Myaree Cabernet & Canvas Studio (2/17 Hulme Court\, Myaree)\n\n\nWhen: Course starts Saturday 09th May 2026 (16 May\, 23 May\, 30 May\, 06 June\, 13 June)\n\n\nTime: Arrive at 10.15am for a 10.30am start\n\n\nALL MATERIALS INCLUDED \nVenue Information \nOur beautiful studio is located in Myaree and is completely BYO so please don’t forget to bring your favourite beverages and snacks to let loose.  \nAbout Cabernet & Canvas \nOur classes are designed to be fun\, social and achievable for beginners. Come on your own or bring a friend. Our artist will walk you through the process step-by-step whilst offering suggestions on how to individualise your artwork. Anyone and everyone are welcome. No prior painting experience is required. \nHave a Question? \nCheck out our helpful FAQ’s at the bottom of this page\, or flick us a message via the Contact Us form. \nClick here to view our Privacy Policy and Terms and Conditions.
URL:https://cabernetandcanvas.com.au/event/6-week-seascape-acrylic-painting-course-big-blue/
LOCATION:The Studio – Myaree\, 2/17 Hulme Ct\, Myaree\, WA\, 6154\, Australia
CATEGORIES:Myaree,Paint & Sip,Special Events
ATTACH;FMTTYPE=image/png:https://cabernetandcanvas.com.au/wp-content/uploads/2026/04/Website-Painting-Gallery-Tiles-400-x-400-px-10-e1775285587947.png
ORGANIZER;CN="Cabernet & Canvas":MAILTO:hello@cabernetandcanvas.com.au.
GEO:-32.044463429758;115.81179955691
X-APPLE-STRUCTURED-LOCATION;VALUE=URI;X-ADDRESS=The Studio – Myaree 2/17 Hulme Ct Myaree WA 6154 Australia;X-APPLE-RADIUS=500;X-TITLE=2/17 Hulme Ct:geo:115.81179955691,-32.044463429758
END:VEVENT
BEGIN:VEVENT
DTSTART;TZID=Australia/Perth:20260510T103000
DTEND;TZID=Australia/Perth:20260510T123000
DTSTAMP:20260421T065100
CREATED:20260307T005324Z
LAST-MODIFIED:20260404T060504Z
UID:10002337-1778409000-1778416200@cabernetandcanvas.com.au
SUMMARY:Mother's Day: Butterfly Painting in the Park
DESCRIPTION:Join us for an immersive Mother’s Day experience painting at the beautiful Araluen Botanic Park. Be inspired by the native blooms at Araluen Botanic Park and come away with a beautiful acrylic painting. This is a diptych design which means the canvases are designed to join up in the middle. The perfect Mother’s Day gift! 🌷🎁 \nTickets include park entry\, so you can keep exploring the park as long as you like! \nWhat you need to know: \n\nWhere: Araluen Botanic Park (362 Croyden Rd\, Roleystone WA 6111) \n\n\nWhen: Mother’s Day Sunday the 10th of May\, 2026\n\n\nTime: Arrive at 10.15am for a 10.30am start… Sharp!\n\n\nDuration: 10:30am – 12:30pm. We encourage you to explore the beautiful gardens before and/or after the class!\n\nInclusions:\n\nAll required materials and equipment required for the workshop\nStep-by-step guidance by our friendly talented artists\nEntry fee to the park\n\nVenue Information \nThis event is intended to be held outdoors in the Amphitheatre.  View the Botanic Gardens map here. Please dress accordingly with a sunhat and a cardigan as May can be cooler. You can find out more about Araluen Botanic Park on their website here.  \nAbout Cabernet & Canvas \nOur classes are designed to be fun\, social and achievable for beginners. Come on your own or bring a friend. Our artist will walk you through the process step-by-step whilst offering suggestions on how to individualise your artwork. Anyone and everyone are welcome. No prior painting experience is required. \nHave a Question? \nCheck out our helpful FAQ’s at the bottom of this page\, or flick us a message via the Contact Us form. \nClick here to view our Privacy Policy and Terms and Conditions.
URL:https://cabernetandcanvas.com.au/event/mothers-day-painting-in-the-park/
LOCATION:Araluen Botanic Park\, 362 Croyden Rd\, Roleystone\, WA\, 6111\, Australia
CATEGORIES:Family Class,Junior Class,Paint & Sip,Perth Hills,Special Events,Weekend Class
ATTACH;FMTTYPE=image/png:https://cabernetandcanvas.com.au/wp-content/uploads/2026/03/Website-Painting-Gallery-Tiles-400-x-400-px-35-e1772844744765.png
ORGANIZER;CN="Cabernet & Canvas":MAILTO:hello@cabernetandcanvas.com.au.
GEO:-32.1232522;116.1019932
X-APPLE-STRUCTURED-LOCATION;VALUE=URI;X-ADDRESS=Araluen Botanic Park 362 Croyden Rd Roleystone WA 6111 Australia;X-APPLE-RADIUS=500;X-TITLE=362 Croyden Rd:geo:116.1019932,-32.1232522
END:VEVENT
BEGIN:VEVENT
DTSTART;TZID=Australia/Perth:20260510T140000
DTEND;TZID=Australia/Perth:20260510T160000
DTSTAMP:20260421T065100
CREATED:20260315T012839Z
LAST-MODIFIED:20260325T054846Z
UID:10002338-1778421600-1778428800@cabernetandcanvas.com.au
SUMMARY:Mother's Day: Bob Ross Inspired Painting in the Park
DESCRIPTION:Join us for an immersive Mother’s Day experience painting at the beautiful Araluen Botanic Park. Be inspired by the native blooms at Araluen Botanic Park and come away with your very own Bob Ross inspired masterpiece! The perfect Mother’s Day gift! 🌷🎁 \nDouble class pass tickets include a grazing box for two and park entry\, so you can keep exploring the park as long as you like! \nWhat you need to know: \n\nWhere: Araluen Botanic Park (362 Croyden Rd\, Roleystone WA 6111) \n\n\nWhen: Mother’s Day Sunday the 10th of May\, 2026\n\n\nTime: Arrive at 1:45pm for a 2.00pm start… Sharp!\n\n\nDuration: Workshop will run 2:00pm – 4:00pm. We encourage you to explore the beautiful gardens before and/or after the class!\n\nInclusions:\n\nAll required materials and equipment required for the workshop\nStep-by-step guidance by our friendly talented artists\nEntry fee to the park\nGrazing box for 2\n\nVenue Information \nThis event is intended to be held outdoors in the Amphitheatre.  View the Botanic Gardens map here. Please dress accordingly with a sunhat and a cardigan as May can be cooler. You can find out more about Araluen Botanic Park on their website here.  \nAbout Cabernet & Canvas \nOur classes are designed to be fun\, social and achievable for beginners. Come on your own or bring a friend. Our artist will walk you through the process step-by-step whilst offering suggestions on how to individualise your artwork. Anyone and everyone are welcome. No prior painting experience is required. \nHave a Question? \nCheck out our helpful FAQ’s at the bottom of this page\, or flick us a message via the Contact Us form. \nClick here to view our Privacy Policy and Terms and Conditions.
URL:https://cabernetandcanvas.com.au/event/mothers-day-painting-in-the-park-2/
LOCATION:Araluen Botanic Park\, 362 Croyden Rd\, Roleystone\, WA\, 6111\, Australia
CATEGORIES:Family Class,Paint & Sip,Perth Hills,Special Events,Weekend Class
ATTACH;FMTTYPE=image/png:https://cabernetandcanvas.com.au/wp-content/uploads/2023/06/Website-Painting-Gallery-Tiles-400-x-400-px-32.png
ORGANIZER;CN="Cabernet & Canvas":MAILTO:hello@cabernetandcanvas.com.au.
GEO:-32.1232522;116.1019932
X-APPLE-STRUCTURED-LOCATION;VALUE=URI;X-ADDRESS=Araluen Botanic Park 362 Croyden Rd Roleystone WA 6111 Australia;X-APPLE-RADIUS=500;X-TITLE=362 Croyden Rd:geo:116.1019932,-32.1232522
END:VEVENT
BEGIN:VEVENT
DTSTART;TZID=Australia/Perth:20260515T183000
DTEND;TZID=Australia/Perth:20260515T210000
DTSTAMP:20260421T065100
CREATED:20260404T080724Z
LAST-MODIFIED:20260404T080724Z
UID:10002357-1778869800-1778878800@cabernetandcanvas.com.au
SUMMARY:Paint Your Mate
DESCRIPTION:Paint Your Mate!\nWelcome to Cabernet & Canvas\, Perth’s original hub of creative workshops. Enrol now and experience one of our famous Paint & Sip classes where we teach you step-by-step how to recreate an acrylic painting on canvas. We’ve been teaching these classes for 10 + years\, so don’t worry if you have no painting experience – we will work our magic! \nDon’t know what it is? \nPaint Your Mate is one of most popular workshop experiences\, where you get to paint whacky colourful portraits of friends\, family members or even yourself. Can’t paint? Don’t worry\, we draw inspiration from Picasso for these sessions\, so they are intentionally unrealistic. These Piccasso-esque paintings are sure to brighten up any room! \nWhat you need to know: \n\nWhere: The Cabernet & Canvas Studio (2/17 Hulme Court\, Myaree)\n\n\nWhen: Friday the 15th of May 2026\n\n\nTime: Arrive at 6.15pm for a 6.30pm start… Sharp!\n\n\nDuration: Class will run for approximately 2—2.5 hours\n\nTickets include all required painting materials. Just show up ready to have a good time and wear something you don’t mind getting paint on… just in case! \nAbout Cabernet & Canvas \nOur classes are designed to be fun\, social and achievable for beginners. Come on your own or bring a friend. No prior painting experience is required. \nVenue Information \nOur beautiful studio is located in Myaree and is completely BYO so please don’t forget to bring your favourite beverages and snacks to let loose. You can also add one of our delicious grazing boxes at checkout.  \nHave a Question? \nCheck out our helpful FAQ’s at the bottom of this page\, or flick us a message via the Contact Us form. \nClick here to view our Privacy Policy and Terms and Conditions.
URL:https://cabernetandcanvas.com.au/event/paint-your-mate-19/
LOCATION:The Studio – Myaree\, 2/17 Hulme Ct\, Myaree\, WA\, 6154\, Australia
CATEGORIES:Myaree,Paint & Sip
ATTACH;FMTTYPE=image/jpeg:https://cabernetandcanvas.com.au/wp-content/uploads/2023/11/Paint-Your-Mate-main-girls.jpg
ORGANIZER;CN="Cabernet & Canvas":MAILTO:hello@cabernetandcanvas.com.au.
GEO:-32.044463429758;115.81179955691
X-APPLE-STRUCTURED-LOCATION;VALUE=URI;X-ADDRESS=The Studio – Myaree 2/17 Hulme Ct Myaree WA 6154 Australia;X-APPLE-RADIUS=500;X-TITLE=2/17 Hulme Ct:geo:115.81179955691,-32.044463429758
END:VEVENT
BEGIN:VEVENT
DTSTART;TZID=Australia/Perth:20260516T183000
DTEND;TZID=Australia/Perth:20260516T203000
DTSTAMP:20260421T065100
CREATED:20260404T073353Z
LAST-MODIFIED:20260404T073353Z
UID:10002355-1778956200-1778963400@cabernetandcanvas.com.au
SUMMARY:Beautiful Blooms | Textured
DESCRIPTION:Welcome to Cabernet & Canvas\, Perth’s original hub of creative workshops. Enrol now and experience one of our famous Paint & Sip classes where we teach you step-by-step how to recreate an acrylic painting on canvas. We’ve been teaching these classes for 10 + years\, so don’t worry if you have no painting experience – we will work our magic! \nFor this class we will be painting textured Beautiful Blooms. \nWhat you need to know: \n\nWhere: The Cabernet & Canvas Studio (2/17 Hulme Court\, Myaree)\n\n\nWhen: Saturday the 16th of May 2026\n\n\nTime: Arrive at 6.15pm for a 6.30pm start… Sharp!\n\n\nDuration: Class will run for approximately 2—2.5 hours\n\nTickets include all required painting materials. Just show up ready to have a good time and wear something you don’t mind getting paint on… just in case! \nVenue Information \nOur beautiful studio is located in Myaree and is completely BYO so please don’t forget to bring your favourite beverages and snacks to let loose. You can also add one of our delicious grazing boxes at checkout.  \nAbout Cabernet & Canvas \nOur classes are designed to be fun\, social and achievable for beginners. Come on your own or bring a friend. Our artist will walk you through the process step-by-step whilst offering suggestions on how to individualise your artwork. Anyone and everyone are welcome. No prior painting experience is required. \nHave a Question? \nCheck out our helpful FAQ’s at the bottom of this page\, or flick us a message via the Contact Us form. \nClick here to view our Privacy Policy and Terms and Conditions.
URL:https://cabernetandcanvas.com.au/event/beautiful-blooms-textured/
LOCATION:The Studio – Myaree\, 2/17 Hulme Ct\, Myaree\, WA\, 6154\, Australia
CATEGORIES:Myaree,Paint & Sip
ATTACH;FMTTYPE=image/png:https://cabernetandcanvas.com.au/wp-content/uploads/2026/04/Website-Painting-Gallery-Tiles-400-x-400-px-12.png
ORGANIZER;CN="Cabernet & Canvas":MAILTO:hello@cabernetandcanvas.com.au.
GEO:-32.044463429758;115.81179955691
X-APPLE-STRUCTURED-LOCATION;VALUE=URI;X-ADDRESS=The Studio – Myaree 2/17 Hulme Ct Myaree WA 6154 Australia;X-APPLE-RADIUS=500;X-TITLE=2/17 Hulme Ct:geo:115.81179955691,-32.044463429758
END:VEVENT
BEGIN:VEVENT
DTSTART;TZID=Australia/Perth:20260517T140000
DTEND;TZID=Australia/Perth:20260517T163000
DTSTAMP:20260421T065100
CREATED:20260404T071151Z
LAST-MODIFIED:20260404T071151Z
UID:10002353-1779026400-1779035400@cabernetandcanvas.com.au
SUMMARY:Ocean Resin Serving Tray
DESCRIPTION:Ocean Resin Serving Tray!\nEnrol now and experience one of our famous Paint & Sip classes where we teach you step-by-step how to recreate your own ocean inspired resin serving tray. We’ve been teaching these classes for 10+ years\, so don’t worry if you have no painting experience – we will work our magic! In this class we will guide you step-by-step to create your very own Ocean Resin Serving Tray. \nWhat you need to know: \n\nWhere: The Cabernet & Canvas Studio (2/17 Hulme Court\, Myaree)\n\n\nWhen: Sunday the 17th of May 2026\n\n\nTime: Arrive at 1:45pm for a 2:00pm start\n\n\nDuration: Class will run for approximately 2 hours\n\nPlease note\, when resin is mixed it creates a chemical reaction that releases toxins. These can be harmful for pregnant woman or those with respiratory issues and is not suitable for children to attend. Ages 13+ \nPickup: \nYou will need to leave the serving trays to cure and collect your artwork the following week. We will contact you to arrange a suitable collection time. \nWhat to wear: \nWe recommend wearing clothes you don’t mind getting resin on… just in case! \nVenue Information \nOur beautiful studio is located in Myaree and is completely BYO so please don’t forget to bring your favourite beverages and snacks to let loose. You can also add one of our delicious grazing boxes at checkout.  \nAbout Cabernet & Canvas \nOur classes are designed to be fun\, social and achievable for beginners. Come on your own or bring a friend. Our artist will walk you through the process step-by-step whilst offering suggestions on how to individualise your artwork. Anyone and everyone are welcome. No prior experience is required. \nHave a Question? \nCheck out our helpful FAQ’s at the bottom of this page\, or flick us a message via the Contact Us form. \nClick here to view our Privacy Policy and Terms and Conditions.
URL:https://cabernetandcanvas.com.au/event/ocean-resin-serving-tray-2/
LOCATION:The Studio – Myaree\, 2/17 Hulme Ct\, Myaree\, WA\, 6154\, Australia
CATEGORIES:Myaree,Resin,Special Events,Weekend Class
ATTACH;FMTTYPE=image/png:https://cabernetandcanvas.com.au/wp-content/uploads/2026/02/Website-Painting-Gallery-Tiles-400-x-400-px-34-e1771726962621.png
ORGANIZER;CN="Cabernet & Canvas":MAILTO:hello@cabernetandcanvas.com.au.
GEO:-32.044463429758;115.81179955691
X-APPLE-STRUCTURED-LOCATION;VALUE=URI;X-ADDRESS=The Studio – Myaree 2/17 Hulme Ct Myaree WA 6154 Australia;X-APPLE-RADIUS=500;X-TITLE=2/17 Hulme Ct:geo:115.81179955691,-32.044463429758
END:VEVENT
BEGIN:VEVENT
DTSTART;TZID=Australia/Perth:20260524T140000
DTEND;TZID=Australia/Perth:20260524T163000
DTSTAMP:20260421T065100
CREATED:20260404T080111Z
LAST-MODIFIED:20260404T080111Z
UID:10002356-1779631200-1779640200@cabernetandcanvas.com.au
SUMMARY:Watercolour & Wine: Seasonal Fruits
DESCRIPTION:Welcome to Cabernet & Canvas\, Perth’s original hub of creative workshops. In this class we will guide you through how to use watercolours for the first time as we paint beautiful seasonal fruits! \nYou will have the opportunity to learn several watercolour techniques and be guided through the creation of your very own seasonal fruits. \nWe’ve been teaching these classes for 10 + years\, so don’t worry if you have no painting experience – we will work our magic! \nComplimentary drink on arrival! \nWhat you need to know: \n\nWhere: Cabernet & Canvas Studio (2/17 Hulme Court\, Myaree)\n\n\nWhen: Sunday 24th May 2026\n\n\nTime: Arrive at 1.45pm for a 2.00pm start… Sharp!\n\n\nDuration: Class will run for approximately 2—2.5 hours\n\nTickets include all required painting materials. Just show up ready to have a good time and wear something you don’t mind getting paint on… just in case! \nVenue Information \nOur beautiful studio is located in Myaree and is completely BYO so please don’t forget to bring your favourite beverages and snacks to let loose. You can also add one of our delicious grazing boxes at checkout.  \nAbout Cabernet & Canvas \nOur classes are designed to be fun\, social and achievable for beginners. Come on your own or bring a friend. Our artist will walk you through the process step-by-step whilst offering suggestions on how to individualise your artwork. Anyone and everyone are welcome. No prior painting experience is required. \nHave a Question? \nCheck out our helpful FAQ’s at the bottom of this page\, or flick us a message via the Contact Us form. \nClick here to view our Privacy Policy and Terms and Conditions.
URL:https://cabernetandcanvas.com.au/event/watercolour-wine-seasonal-fruits/
LOCATION:The Studio – Myaree\, 2/17 Hulme Ct\, Myaree\, WA\, 6154\, Australia
CATEGORIES:Myaree,Paint & Sip,Special Events,Watercolors,Weekend Class
ATTACH;FMTTYPE=image/jpeg:https://cabernetandcanvas.com.au/wp-content/uploads/2026/04/Website-Painting-Gallery-Tiles-400-x-400-px.jpg
ORGANIZER;CN="Cabernet & Canvas":MAILTO:hello@cabernetandcanvas.com.au.
GEO:-32.044463429758;115.81179955691
X-APPLE-STRUCTURED-LOCATION;VALUE=URI;X-ADDRESS=The Studio – Myaree 2/17 Hulme Ct Myaree WA 6154 Australia;X-APPLE-RADIUS=500;X-TITLE=2/17 Hulme Ct:geo:115.81179955691,-32.044463429758
END:VEVENT
END:VCALENDAR